BEGIN:VCALENDAR
VERSION:2.0
PRODID:-//Vuokatti Areena - ECPv6.15.17.1//NONSGML v1.0//EN
CALSCALE:GREGORIAN
METHOD:PUBLISH
X-WR-CALNAME:Vuokatti Areena
X-ORIGINAL-URL:https://vuokattiareena.fi
X-WR-CALDESC:Tapahtumat Vuokatti Areena
REFRESH-INTERVAL;VALUE=DURATION:PT1H
X-Robots-Tag:noindex
X-PUBLISHED-TTL:PT1H
BEGIN:VTIMEZONE
TZID:UTC
BEGIN:STANDARD
TZOFFSETFROM:+0000
TZOFFSETTO:+0000
TZNAME:UTC
DTSTART:20230101T000000
END:STANDARD
END:VTIMEZONE
BEGIN:VEVENT
DTSTART;TZID=UTC:20240229T090000
DTEND;TZID=UTC:20240302T160000
DTSTAMP:20260423T195737
CREATED:20240117T132529Z
LAST-MODIFIED:20240228T040224Z
UID:4361-1709197200-1709395200@vuokattiareena.fi
SUMMARY:Jyri "The" Saarisen hiihtolomaleiri vol 1
DESCRIPTION:Leirit on suunnattu 2010–2014 syntyneille jääkiekkoilijoille. Leirillä keskitytään maalintekoon\, lajitaitoihin sekä pelitilannetaitoihin. Leirin taitovalmentajana toimii lajin huipputaitaja Jyri ”The” Saarinen. \nJyri on jo legenda Suomessa. Lajitaitojen huippukoutsi\, joka saa pelaajat innostumaan ja oppimaan rautaisella opettamisen ammattitaidolla! \n\n\n\n\n\n\nLeirit järjestetään hiihtolomaviikoilla 9 ja 10.
URL:https://vuokattiareena.fi/tapahtumat/jyri-the-saarisen-hiihtolomaleiri/
LOCATION:Vuokatti Areena
ATTACH;FMTTYPE=image/png:https://vuokattiareena.fi/files/2024/01/JYRI-Instagram-Post-2.png
END:VEVENT
BEGIN:VEVENT
DTSTART;TZID=UTC:20240302T140000
DTEND;TZID=UTC:20240302T160000
DTSTAMP:20260423T195737
CREATED:20240111T050358Z
LAST-MODIFIED:20240111T050358Z
UID:4265-1709388000-1709395200@vuokattiareena.fi
SUMMARY:VTS VRUA U18 - Hermes Ak
DESCRIPTION:
URL:https://vuokattiareena.fi/tapahtumat/vts-vrua-u18-hermes-ak/
LOCATION:Vuokatti Areena
ATTACH;FMTTYPE=image/png:https://vuokattiareena.fi/files/2023/11/U18MESTIS.png
END:VEVENT
BEGIN:VEVENT
DTSTART;TZID=UTC:20240304T080000
DTEND;TZID=UTC:20240306T170000
DTSTAMP:20260423T195737
CREATED:20240118T080545Z
LAST-MODIFIED:20240118T080545Z
UID:4365-1709539200-1709744400@vuokattiareena.fi
SUMMARY:Jyri "The" Saarisen hiihtolomaleiri vol 2
DESCRIPTION:Leirit on suunnattu 2010–2014 syntyneille jääkiekkoilijoille. Leirillä keskitytään maalintekoon\, lajitaitoihin sekä pelitilannetaitoihin. Leirin taitovalmentajana toimii lajin huipputaitaja Jyri ”The” Saarinen. \nJyri on jo legenda Suomessa. Lajitaitojen huippukoutsi\, joka saa pelaajat innostumaan ja oppimaan rautaisella opettamisen ammattitaidolla! \n\n\n\n\n\n\nLeirit järjestetään hiihtolomaviikoilla 9 ja 10.
URL:https://vuokattiareena.fi/tapahtumat/jyri-the-saarisen-hiihtolomaleiri-vol-2/
LOCATION:Vuokatti Areena
ATTACH;FMTTYPE=image/png:https://vuokattiareena.fi/files/2024/01/JYRI-Instagram-Post-2.png
END:VEVENT
BEGIN:VEVENT
DTSTART;TZID=UTC:20240316T103000
DTEND;TZID=UTC:20240316T123000
DTSTAMP:20260423T195737
CREATED:20240111T050455Z
LAST-MODIFIED:20240111T050455Z
UID:4267-1710585000-1710592200@vuokattiareena.fi
SUMMARY:VTS VRUA U18 - Hokki
DESCRIPTION:
URL:https://vuokattiareena.fi/tapahtumat/vts-vrua-u18-hokki/
LOCATION:Vuokatti Areena
ATTACH;FMTTYPE=image/png:https://vuokattiareena.fi/files/2023/11/U18MESTIS.png
END:VEVENT
BEGIN:VEVENT
DTSTART;TZID=UTC:20240323T080000
DTEND;TZID=UTC:20240324T170000
DTSTAMP:20260423T195737
CREATED:20240111T051827Z
LAST-MODIFIED:20240111T051827Z
UID:4278-1711180800-1711299600@vuokattiareena.fi
SUMMARY:Kaukalopallon Ikämiesten SM-Kisat
DESCRIPTION:Ikämiesten SM-turnaus 55-75v järjestetään Vuokatti Areenalla 23-24.3.2024.  \n 
URL:https://vuokattiareena.fi/tapahtumat/kaukalopallon-ikamiesten-sm-kisat/
LOCATION:Vuokatti Areena
ATTACH;FMTTYPE=image/jpeg:https://vuokattiareena.fi/files/2022/05/kaukis4-scaled.jpg
END:VEVENT
END:VCALENDAR