BEGIN:VCALENDAR
VERSION:2.0
PRODID:-//Vuokatti Areena - ECPv6.15.17.1//NONSGML v1.0//EN
CALSCALE:GREGORIAN
METHOD:PUBLISH
X-WR-CALNAME:Vuokatti Areena
X-ORIGINAL-URL:https://vuokattiareena.fi
X-WR-CALDESC:Tapahtumat Vuokatti Areena
REFRESH-INTERVAL;VALUE=DURATION:PT1H
X-Robots-Tag:noindex
X-PUBLISHED-TTL:PT1H
BEGIN:VTIMEZONE
TZID:UTC
BEGIN:STANDARD
TZOFFSETFROM:+0000
TZOFFSETTO:+0000
TZNAME:UTC
DTSTART:20220101T000000
END:STANDARD
END:VTIMEZONE
BEGIN:VEVENT
DTSTART;TZID=UTC:20230818T080000
DTEND;TZID=UTC:20230820T170000
DTSTAMP:20260424T075540
CREATED:20230525T112609Z
LAST-MODIFIED:20230525T113932Z
UID:3685-1692345600-1692550800@vuokattiareena.fi
SUMMARY:Jääkiekon Superpark-Turnaus U13
DESCRIPTION:Vietä unohtumaton viikonloppu Superpark-turnauksessa! Huippuhyvien pelien lisäksi voitte majoittua Superpark Vuokatissa jossa myös puiston privaattikäyttö on mahdollista! \nTurnaukseen mahtuu yhteensä 18 peliryhmää.  \n\nAAA- taso 8-10 peliryhmää\nAA- taso 8-10  peliryhmää\nOttelut pelataan jääkiekkoliiton ikäluokkien säännöillä\nPeliaika 2 x 15min tehokasta peliaikaa\, kokonaispeliaika max 45 min\nJoukkueet pelaavat 5-7 peliä (alkusarja ja sijoitusottelut)\nGameresutsonline Live-tulospalvelu\nLeijonat.tv ja Solidsport striimaukset\n\nLisätiedot: TÄÄLTÄ \nIlmoittautuminen: TÄÄLTÄ
URL:https://vuokattiareena.fi/tapahtumat/jaakiekon-superpark-turnaus-u13/
LOCATION:Vuokatti Areena
ATTACH;FMTTYPE=image/png:https://vuokattiareena.fi/files/2023/05/superparkki.png
END:VEVENT
BEGIN:VEVENT
DTSTART;TZID=UTC:20230818T170000
DTEND;TZID=UTC:20230820T150000
DTSTAMP:20260424T075540
CREATED:20230629T110414Z
LAST-MODIFIED:20230629T110414Z
UID:3830-1692378000-1692543600@vuokattiareena.fi
SUMMARY:Piristy ja Aktivoidu - hyvinvointiviikonloppu
DESCRIPTION:Kaipaatko piristystä keholle ja mielelle ollaksesi valmis syksyn koettelumuksiin? Olisiko paikallaan irtiotto arjesta? Kuulostaisiko liikuntaviikonloppu puolihoidolla hyvältä? Olet tervetullut nauttimaan ohjatusta treenistä\, kehonhuollosta ja pyöräilystä Vuokattiin! \nViikonlopun tarjoaa yhteistyössä Vuokatti Areena ja Ärsyttävän Pirteä PT Emmi\, jonka elämäntehtävä on piristää ihmisiä ja ohjata kohti hyvää kuntoa ja oloa. Emmi on toiminnallisen harjoittelun personal trainer\, ryhmäliikuntaohjaaja\, maastopyöräopas ja luontoelämysohjaaja. Viikonloppu sisältääkin reilun annoksen hyvää tekevää liikettä ja miljöön toiminnalle tarjoavat Kainuun kauniit vaaramaisemat sekä Vuokatti Areenan mahtavat liikuntatilat.
URL:https://vuokattiareena.fi/tapahtumat/piristy-ja-aktivoidu-hyvinvointiviikonloppu/
LOCATION:Vuokatti Areena
ATTACH;FMTTYPE=image/png:https://vuokattiareena.fi/files/2023/06/Piristy-ja-aktivoidu-netti.png
END:VEVENT
BEGIN:VEVENT
DTSTART;TZID=UTC:20230826T080000
DTEND;TZID=UTC:20230827T170000
DTSTAMP:20260424T075540
CREATED:20230525T113414Z
LAST-MODIFIED:20230525T114033Z
UID:3693-1693036800-1693155600@vuokattiareena.fi
SUMMARY:Jääkiekon BestShot-Turnaus U15
DESCRIPTION:Tervetuloa mukaan U15 AA-turnaukseen Vuokattiin! \nTurnauksen hinta 800 € / joukkue.  \nTaso: U15 AA \nPeliaika 3×15 min tehokasta\, max 75 min \nPelit alkavat lauantaina klo 10:00 ja päättyy sunnuntaina klo 18:00 \nPelejä 5-6 kpl / joukkue. Joukkueet jaetaan kahteen neljän joukkueen lohkoon jossa pelataan yksinkertainen alkusarja jonka jälkeen sijoitusottelut (puolivälierät\, sijoitusottelut\, välierät\, finaali ja pronssi) toisen lohkon joukkueiden kanssa. \nJokaiselle joukkueelle oma pukukoppi turnauksen ajan. \nUimahallin käyttö joukkueille veloituksetta turnauksen ajan sekä kuntosalien käyttö toimihenkilöille veloituksetta! \nMajoitukset (Break Sokos Hotel Vuokatti / Vuokatti Sport) ja ruokailut samassa pihapiirissä seuraavilla ryhmähinnoilla: \nPelaajat 89\,00€ / vrk\nToimihenkilöt 99\,00 € / vrk \nPaketit täysihoidolla (aamupala\, lounas\, päivällinen iltapala / vrk) \nMajoitukset varataan ilmoittautumisen jälkeen tulevien ohjeiden mukaisesti. \nTERVETULOA MUKAAN! \nLISÄTIEDOT JA ILMOITTAUTUMINEN TÄÄLTÄ
URL:https://vuokattiareena.fi/tapahtumat/jaakiekon-bestshot-turnaus-u14/
LOCATION:Vuokatti Areena
ATTACH;FMTTYPE=image/png:https://vuokattiareena.fi/files/2023/05/BESTSHOT-e1685088369715.png
END:VEVENT
END:VCALENDAR