BEGIN:VCALENDAR
VERSION:2.0
PRODID:-//Vuokatti Areena - ECPv6.15.17.1//NONSGML v1.0//EN
CALSCALE:GREGORIAN
METHOD:PUBLISH
X-WR-CALNAME:Vuokatti Areena
X-ORIGINAL-URL:https://vuokattiareena.fi
X-WR-CALDESC:Tapahtumat Vuokatti Areena
REFRESH-INTERVAL;VALUE=DURATION:PT1H
X-Robots-Tag:noindex
X-PUBLISHED-TTL:PT1H
BEGIN:VTIMEZONE
TZID:UTC
BEGIN:STANDARD
TZOFFSETFROM:+0000
TZOFFSETTO:+0000
TZNAME:UTC
DTSTART:20220101T000000
END:STANDARD
END:VTIMEZONE
BEGIN:VEVENT
DTSTART;TZID=UTC:20230617T080000
DTEND;TZID=UTC:20230621T170000
DTSTAMP:20260424T111431
CREATED:20220322T071231Z
LAST-MODIFIED:20230525T111553Z
UID:1936-1686988800-1687366800@vuokattiareena.fi
SUMMARY:Teemu Selänteen jääkiekkoleiri 2023
DESCRIPTION:Teemun Jääkiekkoleiri Vuokatti Sportilla on jääkiekkojunnun todellinen unelmaviikko\, sillä leirin vetäjinä toimivat mm. Teemu Selänne\, Keijo Säilynoja\, Markus Ketterer ja Valtteri Filppula. Lisäksi kouluttajina toimii juniorivalmentajia sekä vierailevia tähtipelaajia eri seuroista. \nLeiri järjestetään jo 28. kerran Vuokatissa.
URL:https://vuokattiareena.fi/tapahtumat/teemu-selanteen-jaakiekkoleiri-2023/
LOCATION:Vuokatti Areena
ATTACH;FMTTYPE=image/jpeg:https://vuokattiareena.fi/files/2022/03/Finnish-Flash-logo.jpeg
END:VEVENT
BEGIN:VEVENT
DTSTART;TZID=UTC:20230621T180000
DTEND;TZID=UTC:20230621T220000
DTSTAMP:20260424T111431
CREATED:20230525T115048Z
LAST-MODIFIED:20230525T115048Z
UID:3705-1687370400-1687384800@vuokattiareena.fi
SUMMARY:Mouhous
DESCRIPTION:Mouhous esiintyy Vuokatti Areenan yhteydessä kesäkuussa! Päihteettömään tapahtumaan on vapaa pääsy. \nOvet klo 18:00
URL:https://vuokattiareena.fi/tapahtumat/mouhous/
LOCATION:Vuokatti Areena
ATTACH;FMTTYPE=image/jpeg:https://vuokattiareena.fi/files/2023/05/mouhous.jpeg
END:VEVENT
BEGIN:VEVENT
DTSTART;TZID=UTC:20230622T180000
DTEND;TZID=UTC:20230622T200000
DTSTAMP:20260424T111431
CREATED:20230526T043805Z
LAST-MODIFIED:20230526T043805Z
UID:3718-1687456800-1687464000@vuokattiareena.fi
SUMMARY:Crazy Drivers Stunt Show
DESCRIPTION:Näe ja koe kauan odotettu kotimainen ja ainutlaatuinen motor action-show! Livenä elokuvastuntit\, huimat autokolaridemonstraatiot\, autot kahdella pyörällä\, stuntpyörä show\, Monster Jameistakin tuttu Raging Bull Monster truck ja paljon muuta! \nEsiintyjinä mm. Guinness world record-tittelin haltija\, maailmanmestari taitoajaja Vesa Kivimäki\, pyöränumeroista vastaa WildRiders teamin Atte Niskanen ja Aleksi Manninen. \nLasten liput (3-14v): istumapaikka 25€\, seisomapaikka 20€. Aikuisten liput: istumapaikka 30€\, seisomapaikka 25€. \nAlle 3v lapset sylissä veloituksetta. Ennakkolipunmyynti istumapaikoille päättyy tapahtumapäivänä klo 16.00. \nTapahtuma on Vuokatti Areenan parkkialueella.
URL:https://vuokattiareena.fi/tapahtumat/crazy-drivers-stunt-show/
LOCATION:Vuokatti Areena
ATTACH;FMTTYPE=image/jpeg:https://vuokattiareena.fi/files/2023/05/crazy-drivers.jpeg
END:VEVENT
END:VCALENDAR