BEGIN:VCALENDAR
VERSION:2.0
PRODID:-//Vuokatti Areena - ECPv6.15.17.1//NONSGML v1.0//EN
CALSCALE:GREGORIAN
METHOD:PUBLISH
X-WR-CALNAME:Vuokatti Areena
X-ORIGINAL-URL:https://vuokattiareena.fi
X-WR-CALDESC:Tapahtumat Vuokatti Areena
REFRESH-INTERVAL;VALUE=DURATION:PT1H
X-Robots-Tag:noindex
X-PUBLISHED-TTL:PT1H
BEGIN:VTIMEZONE
TZID:UTC
BEGIN:STANDARD
TZOFFSETFROM:+0000
TZOFFSETTO:+0000
TZNAME:UTC
DTSTART:20210101T000000
END:STANDARD
END:VTIMEZONE
BEGIN:VEVENT
DTSTART;TZID=UTC:20221029T053000
DTEND;TZID=UTC:20221029T210000
DTSTAMP:20260425T041604
CREATED:20221005T025531Z
LAST-MODIFIED:20221005T084426Z
UID:2637-1667021400-1667077200@vuokattiareena.fi
SUMMARY:Klamydia
DESCRIPTION:Sisäänkäynti pääovesta. Tapahtuma on K-18 ja sisäänpääsy avautuu kello 17.30. Pyörätuolilla saapuville\, avustajan pääsymaksu on ilmainen. \nLiput: https://tapahtumakauppa.fi/klamydia-vuokatti/ \n 
URL:https://vuokattiareena.fi/tapahtumat/klamydia/
ATTACH;FMTTYPE=image/jpeg:https://vuokattiareena.fi/files/2022/10/IMG_7579.jpg
END:VEVENT
END:VCALENDAR