BEGIN:VCALENDAR
VERSION:2.0
PRODID:-//Vuokatti Areena - ECPv6.15.17.1//NONSGML v1.0//EN
CALSCALE:GREGORIAN
METHOD:PUBLISH
X-ORIGINAL-URL:https://vuokattiareena.fi
X-WR-CALDESC:Tapahtumat Vuokatti Areena
REFRESH-INTERVAL;VALUE=DURATION:PT1H
X-Robots-Tag:noindex
X-PUBLISHED-TTL:PT1H
BEGIN:VTIMEZONE
TZID:UTC
BEGIN:STANDARD
TZOFFSETFROM:+0000
TZOFFSETTO:+0000
TZNAME:UTC
DTSTART:20230101T000000
END:STANDARD
END:VTIMEZONE
BEGIN:VEVENT
DTSTART;TZID=UTC:20240224T003000
DTEND;TZID=UTC:20240224T143000
DTSTAMP:20260423T230502
CREATED:20240111T050254Z
LAST-MODIFIED:20240111T050254Z
UID:4263-1708734600-1708785000@vuokattiareena.fi
SUMMARY:VTS VRUA U18 - Kalpa Ak
DESCRIPTION:
URL:https://vuokattiareena.fi/tapahtumat/vts-vrua-u18-kalpa-ak/
LOCATION:Vuokatti Areena
ATTACH;FMTTYPE=image/png:https://vuokattiareena.fi/files/2023/11/U18MESTIS.png
END:VEVENT
BEGIN:VEVENT
DTSTART;TZID=UTC:20240224T160000
DTEND;TZID=UTC:20240224T180000
DTSTAMP:20260423T230502
CREATED:20240111T051058Z
LAST-MODIFIED:20240111T051058Z
UID:4273-1708790400-1708797600@vuokattiareena.fi
SUMMARY:VTS Edustus - UU
DESCRIPTION:Jääkiekon II-Divisoonan ottelu
URL:https://vuokattiareena.fi/tapahtumat/vts-edustus-uu/
LOCATION:Vuokatti Areena
ATTACH;FMTTYPE=image/png:https://vuokattiareena.fi/files/2022/09/VTS.png
END:VEVENT
END:VCALENDAR