BEGIN:VCALENDAR
VERSION:2.0
PRODID:-//Vuokatti Areena - ECPv6.15.17.1//NONSGML v1.0//EN
CALSCALE:GREGORIAN
METHOD:PUBLISH
X-WR-CALNAME:Vuokatti Areena
X-ORIGINAL-URL:https://vuokattiareena.fi
X-WR-CALDESC:Tapahtumat Vuokatti Areena
REFRESH-INTERVAL;VALUE=DURATION:PT1H
X-Robots-Tag:noindex
X-PUBLISHED-TTL:PT1H
BEGIN:VTIMEZONE
TZID:UTC
BEGIN:STANDARD
TZOFFSETFROM:+0000
TZOFFSETTO:+0000
TZNAME:UTC
DTSTART:20230101T000000
END:STANDARD
END:VTIMEZONE
BEGIN:VEVENT
DTSTART;TZID=UTC:20240209T080000
DTEND;TZID=UTC:20240216T170000
DTSTAMP:20260423T230410
CREATED:20240111T051425Z
LAST-MODIFIED:20240111T051425Z
UID:4275-1707465600-1708102800@vuokattiareena.fi
SUMMARY:Masters World Cup 2024 Vuokatti
DESCRIPTION:Masters World Cup 2024 kokoaa jälleen hiihtokonkarit Vuokattiin 9.-16.2.2024. Vuokatti Sportille järjestettäviin maastohiihdon mestaruuskilpailuihin. Vastaavat kilpailut järjestettiin edellisen kerran 4.-12.2.2016\, joilloin kisaamaan saapui lähes 1 000 kilpailijaa 24 eri maasta. Kilpailijat ovat iältään 30 – 85 –vuotiaita.
URL:https://vuokattiareena.fi/tapahtumat/masters-world-cup-2024-vuokatti/
LOCATION:Vuokatti Areena
ATTACH;FMTTYPE=image/jpeg:https://vuokattiareena.fi/files/2024/01/MWC-2024-Vuokatti-640x381-1.jpeg
END:VEVENT
END:VCALENDAR