BEGIN:VCALENDAR
VERSION:2.0
PRODID:-//Vuokatti Areena - ECPv6.15.17.1//NONSGML v1.0//EN
CALSCALE:GREGORIAN
METHOD:PUBLISH
X-ORIGINAL-URL:https://vuokattiareena.fi
X-WR-CALDESC:Tapahtumat Vuokatti Areena
REFRESH-INTERVAL;VALUE=DURATION:PT1H
X-Robots-Tag:noindex
X-PUBLISHED-TTL:PT1H
BEGIN:VTIMEZONE
TZID:UTC
BEGIN:STANDARD
TZOFFSETFROM:+0000
TZOFFSETTO:+0000
TZNAME:UTC
DTSTART:20230101T000000
END:STANDARD
END:VTIMEZONE
BEGIN:VEVENT
DTSTART;TZID=UTC:20240121T150000
DTEND;TZID=UTC:20240121T170000
DTSTAMP:20260424T004135
CREATED:20240111T050812Z
LAST-MODIFIED:20240111T050812Z
UID:4269-1705849200-1705856400@vuokattiareena.fi
SUMMARY:VTS Edustus - YJK
DESCRIPTION:Jääkiekon II-Divisoonan ottelu
URL:https://vuokattiareena.fi/tapahtumat/vts-edustus-yjk/
LOCATION:Vuokatti Areena
ATTACH;FMTTYPE=image/png:https://vuokattiareena.fi/files/2022/09/VTS.png
END:VEVENT
END:VCALENDAR