BEGIN:VCALENDAR
VERSION:2.0
PRODID:-//Vuokatti Areena - ECPv6.15.17.1//NONSGML v1.0//EN
CALSCALE:GREGORIAN
METHOD:PUBLISH
X-ORIGINAL-URL:https://vuokattiareena.fi
X-WR-CALDESC:Tapahtumat Vuokatti Areena
REFRESH-INTERVAL;VALUE=DURATION:PT1H
X-Robots-Tag:noindex
X-PUBLISHED-TTL:PT1H
BEGIN:VTIMEZONE
TZID:UTC
BEGIN:STANDARD
TZOFFSETFROM:+0000
TZOFFSETTO:+0000
TZNAME:UTC
DTSTART:20220101T000000
END:STANDARD
END:VTIMEZONE
BEGIN:VEVENT
DTSTART;TZID=UTC:20231209T160000
DTEND;TZID=UTC:20231209T183000
DTSTAMP:20260424T022913
CREATED:20231120T051450Z
LAST-MODIFIED:20231120T051450Z
UID:4145-1702137600-1702146600@vuokattiareena.fi
SUMMARY:VTS - YJK
DESCRIPTION:Jääkiekon II-Divisoonan ottelu VTS – YJK
URL:https://vuokattiareena.fi/tapahtumat/vts-yjk/
LOCATION:Vuokatti Areena
ATTACH;FMTTYPE=image/png:https://vuokattiareena.fi/files/2022/09/VTS.png
END:VEVENT
BEGIN:VEVENT
DTSTART;TZID=UTC:20231209T190000
DTEND;TZID=UTC:20231209T210000
DTSTAMP:20260424T022913
CREATED:20231120T051554Z
LAST-MODIFIED:20231120T051607Z
UID:4147-1702148400-1702155600@vuokattiareena.fi
SUMMARY:VTS VRUA U18 - KeuPa HT
DESCRIPTION:Jääkiekon U18 mestisottelu VTS VRUA – KeuPa HT
URL:https://vuokattiareena.fi/tapahtumat/vts-vrua-u18-keupa-ht/
LOCATION:Vuokatti Areena
ATTACH;FMTTYPE=image/png:https://vuokattiareena.fi/files/2023/11/U18MESTIS.png
END:VEVENT
END:VCALENDAR