BEGIN:VCALENDAR
VERSION:2.0
PRODID:-//Vuokatti Areena - ECPv6.15.17.1//NONSGML v1.0//EN
CALSCALE:GREGORIAN
METHOD:PUBLISH
X-WR-CALNAME:Vuokatti Areena
X-ORIGINAL-URL:https://vuokattiareena.fi
X-WR-CALDESC:Tapahtumat Vuokatti Areena
REFRESH-INTERVAL;VALUE=DURATION:PT1H
X-Robots-Tag:noindex
X-PUBLISHED-TTL:PT1H
BEGIN:VTIMEZONE
TZID:UTC
BEGIN:STANDARD
TZOFFSETFROM:+0000
TZOFFSETTO:+0000
TZNAME:UTC
DTSTART:20220101T000000
END:STANDARD
END:VTIMEZONE
BEGIN:VEVENT
DTSTART;TZID=UTC:20231203T150000
DTEND;TZID=UTC:20231203T190000
DTSTAMP:20260424T024009
CREATED:20231120T043733Z
LAST-MODIFIED:20231120T044021Z
UID:4135-1701615600-1701630000@vuokattiareena.fi
SUMMARY:TikTour 2023
DESCRIPTION:Koe TikTokin maailma livenä ja tapaa suosikki TikTokkaajasi!
URL:https://vuokattiareena.fi/tapahtumat/tiktour-2023/
LOCATION:Vuokatti Areena
ATTACH;FMTTYPE=image/png:https://vuokattiareena.fi/files/2023/11/TikTour-IG.png
END:VEVENT
END:VCALENDAR