BEGIN:VCALENDAR
VERSION:2.0
PRODID:-//Vuokatti Areena - ECPv6.15.17.1//NONSGML v1.0//EN
CALSCALE:GREGORIAN
METHOD:PUBLISH
X-WR-CALNAME:Vuokatti Areena
X-ORIGINAL-URL:https://vuokattiareena.fi
X-WR-CALDESC:Tapahtumat Vuokatti Areena
REFRESH-INTERVAL;VALUE=DURATION:PT1H
X-Robots-Tag:noindex
X-PUBLISHED-TTL:PT1H
BEGIN:VTIMEZONE
TZID:UTC
BEGIN:STANDARD
TZOFFSETFROM:+0000
TZOFFSETTO:+0000
TZNAME:UTC
DTSTART:20220101T000000
END:STANDARD
END:VTIMEZONE
BEGIN:VEVENT
DTSTART;TZID=UTC:20231202T160000
DTEND;TZID=UTC:20231202T183000
DTSTAMP:20260424T021711
CREATED:20231120T051015Z
LAST-MODIFIED:20231120T051015Z
UID:4141-1701532800-1701541800@vuokattiareena.fi
SUMMARY:VTS Edustus - KuKi HT
DESCRIPTION:Jääkiekon II-Divisoonan ottelu VTS – KuKi HT
URL:https://vuokattiareena.fi/tapahtumat/vts-edustus-kuki-ht/
LOCATION:Vuokatti Areena
ATTACH;FMTTYPE=image/png:https://vuokattiareena.fi/files/2022/09/VTS.png
END:VEVENT
BEGIN:VEVENT
DTSTART;TZID=UTC:20231202T190000
DTEND;TZID=UTC:20231202T210000
DTSTAMP:20260424T021711
CREATED:20231120T051332Z
LAST-MODIFIED:20231120T051332Z
UID:4143-1701543600-1701550800@vuokattiareena.fi
SUMMARY:VTS VRUA U18 - Diskos
DESCRIPTION:Jääkiekon U18 mestisottelu VTS VRUA – Diskos
URL:https://vuokattiareena.fi/tapahtumat/vts-vrua-u18-diskos/
LOCATION:Vuokatti Areena
ATTACH;FMTTYPE=image/png:https://vuokattiareena.fi/files/2023/11/U18MESTIS.png
END:VEVENT
END:VCALENDAR