BEGIN:VCALENDAR
VERSION:2.0
PRODID:-//Vuokatti Areena - ECPv6.15.17.1//NONSGML v1.0//EN
CALSCALE:GREGORIAN
METHOD:PUBLISH
X-ORIGINAL-URL:https://vuokattiareena.fi
X-WR-CALDESC:Tapahtumat Vuokatti Areena
REFRESH-INTERVAL;VALUE=DURATION:PT1H
X-Robots-Tag:noindex
X-PUBLISHED-TTL:PT1H
BEGIN:VTIMEZONE
TZID:UTC
BEGIN:STANDARD
TZOFFSETFROM:+0000
TZOFFSETTO:+0000
TZNAME:UTC
DTSTART:20220101T000000
END:STANDARD
END:VTIMEZONE
BEGIN:VEVENT
DTSTART;TZID=UTC:20231019T080000
DTEND;TZID=UTC:20231020T170000
DTSTAMP:20260424T060249
CREATED:20230827T022722Z
LAST-MODIFIED:20230827T022722Z
UID:4003-1697702400-1697821200@vuokattiareena.fi
SUMMARY:BestShot-Syyslomaleiri
DESCRIPTION:Valmennus perustuu Bestshot- järjestelmään ja sen antamaan dataan suorituksesta. Järjestelmämme sisältää suurnopeuskameroita\, sekä laukaus- ja syöttöporteilla. Suurnopeuskameroilla kuvataan suorituksia\, jolloin pystymme näkemään tarkasti suorituksen joka vaiheen\, ja analysoimaan sitä. Syöttöportit mittaavat syötön nopeutta. Tätä hyödynnetään syöttöharjoittelussa esimerkiksi syöttövoiman hallinnan mittaamisessa. Laukausportti puolestaan mittaa laukausnopeutta. Laukausportit ovat käytössä harjoituksissa\, jossa lauotaan\, ja halutaan tieota laukauskovuudesta. Näiden työkalujen avulla saamme tarvittavan datan suorituksista\, jotta voimme valmentaa pelaajan kohti omaa maksimipotentiaaliaan.
URL:https://vuokattiareena.fi/tapahtumat/bestshot-syyslomaleiri/
LOCATION:Vuokatti Areena
ATTACH;FMTTYPE=image/png:https://vuokattiareena.fi/files/2023/05/BESTSHOT-e1685088369715.png
END:VEVENT
END:VCALENDAR