BEGIN:VCALENDAR
VERSION:2.0
PRODID:-//Vuokatti Areena - ECPv6.15.17.1//NONSGML v1.0//EN
CALSCALE:GREGORIAN
METHOD:PUBLISH
X-WR-CALNAME:Vuokatti Areena
X-ORIGINAL-URL:https://vuokattiareena.fi
X-WR-CALDESC:Tapahtumat Vuokatti Areena
REFRESH-INTERVAL;VALUE=DURATION:PT1H
X-Robots-Tag:noindex
X-PUBLISHED-TTL:PT1H
BEGIN:VTIMEZONE
TZID:UTC
BEGIN:STANDARD
TZOFFSETFROM:+0000
TZOFFSETTO:+0000
TZNAME:UTC
DTSTART:20220101T000000
END:STANDARD
END:VTIMEZONE
BEGIN:VEVENT
DTSTART;TZID=UTC:20230915T080000
DTEND;TZID=UTC:20230917T170000
DTSTAMP:20260424T075239
CREATED:20230525T112742Z
LAST-MODIFIED:20230525T113847Z
UID:3687-1694764800-1694970000@vuokattiareena.fi
SUMMARY:Jääkiekon Superpark-turnaus U12
DESCRIPTION:Vietä unohtumaton viikonloppu Superpark-turnauksessa! Huippuhyvien pelien lisäksi voitte majoittua Superpark Vuokatissa jossa myös puiston privaattikäyttö on mahdollista! \nTurnaukseen mahtuu yhteensä 18 peliryhmää.  \n\nAAA- taso 8-10 peliryhmää\nAA- taso 8-10  peliryhmää\nOttelut pelataan jääkiekkoliiton ikäluokkien säännöillä\nPeliaika 2 x 15min tehokasta peliaikaa\, kokonaispeliaika max 45 min\nJoukkueet pelaavat 5-7 peliä (alkusarja ja sijoitusottelut)\nGameresutsonline Live-tulospalvelu\nLeijonat.tv ja Solidsport striimaukset\n\nLisätiedot: TÄÄLTÄ \nIlmoittautuminen: TÄÄLTÄ
URL:https://vuokattiareena.fi/tapahtumat/jaakiekon-superpark-turnaus-u12/
LOCATION:Vuokatti Areena
ATTACH;FMTTYPE=image/png:https://vuokattiareena.fi/files/2023/05/superparkki.png
END:VEVENT
END:VCALENDAR