BEGIN:VCALENDAR
VERSION:2.0
PRODID:-//Vuokatti Areena - ECPv6.15.17.1//NONSGML v1.0//EN
CALSCALE:GREGORIAN
METHOD:PUBLISH
X-WR-CALNAME:Vuokatti Areena
X-ORIGINAL-URL:https://vuokattiareena.fi
X-WR-CALDESC:Tapahtumat Vuokatti Areena
REFRESH-INTERVAL;VALUE=DURATION:PT1H
X-Robots-Tag:noindex
X-PUBLISHED-TTL:PT1H
BEGIN:VTIMEZONE
TZID:UTC
BEGIN:STANDARD
TZOFFSETFROM:+0000
TZOFFSETTO:+0000
TZNAME:UTC
DTSTART:20220101T000000
END:STANDARD
END:VTIMEZONE
BEGIN:VEVENT
DTSTART;TZID=UTC:20230902T100000
DTEND;TZID=UTC:20230903T170000
DTSTAMP:20260424T093222
CREATED:20230526T042032Z
LAST-MODIFIED:20230526T042914Z
UID:3711-1693648800-1693760400@vuokattiareena.fi
SUMMARY:Pohjola Pre-Camp
DESCRIPTION:Vuonna 2008 syntyneiden poikien ikäluokan parhaimmisto kokoontuu syksyllä Pohjola-leirille. Vierumäelle kutsutaan yhteensä 12 maalivahtia ja 120 kenttäpelaajaa. \nPohjola-leirille kutsuttavat pelaajat valitaan viikolla 35 järjestettävien kolmen kartoitustapahtuman perusteella. Pre Camp -kartoitustapahtuma Vuokatti Areenalla 2-3.9.2023. \nTervetuloa seuraamaan ikäluokan parhaiden otteita!
URL:https://vuokattiareena.fi/tapahtumat/pohjola-pre-camp/
LOCATION:Vuokatti Areena
ATTACH;FMTTYPE=image/png:https://vuokattiareena.fi/files/2023/05/Suomen_Jaakiekkomaajoukkue_logo.png
END:VEVENT
END:VCALENDAR