BEGIN:VCALENDAR
VERSION:2.0
PRODID:-//Vuokatti Areena - ECPv6.15.17.1//NONSGML v1.0//EN
CALSCALE:GREGORIAN
METHOD:PUBLISH
X-WR-CALNAME:Vuokatti Areena
X-ORIGINAL-URL:https://vuokattiareena.fi
X-WR-CALDESC:Tapahtumat Vuokatti Areena
REFRESH-INTERVAL;VALUE=DURATION:PT1H
X-Robots-Tag:noindex
X-PUBLISHED-TTL:PT1H
BEGIN:VTIMEZONE
TZID:UTC
BEGIN:STANDARD
TZOFFSETFROM:+0000
TZOFFSETTO:+0000
TZNAME:UTC
DTSTART:20220101T000000
END:STANDARD
END:VTIMEZONE
BEGIN:VEVENT
DTSTART;TZID=UTC:20230701T080000
DTEND;TZID=UTC:20230702T170000
DTSTAMP:20260424T110341
CREATED:20230525T111954Z
LAST-MODIFIED:20230525T111954Z
UID:3682-1688198400-1688317200@vuokattiareena.fi
SUMMARY:Jääkiekon Teholeiri 2023
DESCRIPTION:? Järjestyksessään kolmas Vuokatin teholeiri järjestetään jälleen Vuokatti Areenan ja sen ympäristön upeissa puitteissa. Leiri on tänä vuonna suunnattu 2009-2013-syntyneille junioripelaajille ja -maalivahdeille. Aiempina vuosina leiriläiset ovat saapuneet Vuokattiin ympäri Suomea ja viime kesän leiri keräsi jopa 50 osallistujaa. \n? Leiri tarjoaa laadukasta taito- ja maalintekovalmennusta\, pelaajien iän mukaista lajinomaista oheisharjoittelua sekä maalivahtivalmennusta. Leirillä pelaajat saavat oppia maalintekoon niin pelaajan kuin maalivahdinkin näkökulmasta. Hyökkäyspelitaitoja harjoitellaan paljon pelien kautta. Leiriläiset tullaan jakamaan ikäryhmiin\, jotta voimme tarjota mahdollisimman yksillöllistä ja juuri pelaajan ikään ja tasoon sovitettua harjoittelua. \n? Taito- ja maalintekovalmennuksesta vastaa kokenut Tuomo Räty. Tuomo toimii arkisin valmentajana Oulunseutu Urheiluakatemiassa ja vastaa urheiluluokkalaisten jääharjoittelusta. Lähes kaikki kärppätaustaiset Liiga- ja NHL-pelaajat ovat jossain uransa vaiheessa olleet Tuomon valmennuksessa. Kesäisin Tuomo vetää myös oululaisten NHL-pelaajien jääharjoituksia. Leirillä harjoitteissa keskitytään nykyajan nopenevan pelin tuomiin vaatimuksiin sekä ratkaisumallien löytämiseen hyökkäyspäässä. \n? Maalivahtivalmennuksesta vastaa Tuomas Tarkki. Pitkä peliura yhdistettynä valmennuskokemukseen ja tietoon nykypäivän maalivahtipelin vaatimuksista antavat maalivahdeille hyvät työkalut ja valmiudet tulevaan kauteen. Tuomas painottaa valmennuksessa liikkumista\, teränkäyttöä\, tehokasta sijoittumista ja aktiivista peliasentoa\, joita maalivahdeilta vaaditaan pelin nopeutuessa. \n? Oheisharjoittelusta vastaa fysiikkaharjoittelun ammattilainen Sepi Urpilainen. Sepin ajatusmaailma perustuu yksilölliseen jääharjoittelua palvelevaan oheisharjoitteluun. Leiriläiset saavat Sepin oheisissa hyviä ja tehokkaita malleja omaan arkeen vietäväksi. \n? Kahden päivän teholeiri sisältää 4 laadukasta jääharjoitusta\, ohjatun oheisharjoittelun\, kisoja ja kilpailuja sekä muuta pelaajien kehitystä palvelevaa toimintaa. Leiriin kuuluu myös päivittäinen lounas ja välipala. Lounas ja välipala on tarjolla Vuokatti Areenalla \nLeirin ohjelma ajoittuu lauantaina klo 9.00 – 16.30 väliselle ajalle ja sunnuntaina klo 8.00 – 16.00 väliselle ajalle. \nLeirin hinta on 219 €
URL:https://vuokattiareena.fi/tapahtumat/jaakiekon-teholeiri-2023/
LOCATION:Vuokatti Areena
ATTACH;FMTTYPE=image/png:https://vuokattiareena.fi/files/2023/05/teholeiri23.png
END:VEVENT
END:VCALENDAR