BEGIN:VCALENDAR
VERSION:2.0
PRODID:-//Vuokatti Areena - ECPv6.15.17.1//NONSGML v1.0//EN
CALSCALE:GREGORIAN
METHOD:PUBLISH
X-ORIGINAL-URL:https://vuokattiareena.fi
X-WR-CALDESC:Tapahtumat Vuokatti Areena
REFRESH-INTERVAL;VALUE=DURATION:PT1H
X-Robots-Tag:noindex
X-PUBLISHED-TTL:PT1H
BEGIN:VTIMEZONE
TZID:UTC
BEGIN:STANDARD
TZOFFSETFROM:+0000
TZOFFSETTO:+0000
TZNAME:UTC
DTSTART:20210101T000000
END:STANDARD
END:VTIMEZONE
BEGIN:VEVENT
DTSTART;TZID=UTC:20220709T080000
DTEND;TZID=UTC:20220710T170000
DTSTAMP:20260425T104016
CREATED:20220322T072256Z
LAST-MODIFIED:20220322T072256Z
UID:1941-1657353600-1657472400@vuokattiareena.fi
SUMMARY:Jääkiekon Teholeiri 2022
DESCRIPTION:Vuokatin teholeiri järjestetään jälleen Vuokatti Areenan ja sen ympäristön upeissa puitteissa. Leiri on tänä vuonna suunnattu 2008-2012-syntyneille junioripelaajille ja -maalivahdeille 9.-10.7.2022. Leiri tarjoaa laadukasta taito- ja maalintekovalmennusta\, pelaajien iän mukaista lajinomaista oheisharjoittelua sekä maalivahtivalmennusta. Leirillä pelaajat saavat oppia maalintekoon niin pelaajan kuin maalivahdinkin näkökulmasta. Leiriläiset tullaan jakamaan ikäryhmiin\, jotta voimme tarjota mahdollisimman yksillöllistä ja juuri pelaajan ikään ja tasoon sovitettua harjoittelua.
URL:https://vuokattiareena.fi/tapahtumat/jaakiekon-teholeiri-2022/
LOCATION:Vuokatti Areena
END:VEVENT
END:VCALENDAR