BEGIN:VCALENDAR
VERSION:2.0
PRODID:-//Vuokatti Areena - ECPv6.15.17.1//NONSGML v1.0//EN
CALSCALE:GREGORIAN
METHOD:PUBLISH
X-WR-CALNAME:Vuokatti Areena
X-ORIGINAL-URL:https://vuokattiareena.fi
X-WR-CALDESC:Tapahtumat Vuokatti Areena
REFRESH-INTERVAL;VALUE=DURATION:PT1H
X-Robots-Tag:noindex
X-PUBLISHED-TTL:PT1H
BEGIN:VTIMEZONE
TZID:UTC
BEGIN:STANDARD
TZOFFSETFROM:+0000
TZOFFSETTO:+0000
TZNAME:UTC
DTSTART:20210101T000000
END:STANDARD
END:VTIMEZONE
BEGIN:VEVENT
DTSTART;TZID=UTC:20220608T080000
DTEND;TZID=UTC:20220610T170000
DTSTAMP:20260425T120314
CREATED:20220322T070812Z
LAST-MODIFIED:20220401T090322Z
UID:1933-1654675200-1654880400@vuokattiareena.fi
SUMMARY:Taito- ja maalintekoleiri
DESCRIPTION:Pro Coach Harri Tapion jääkiekon taito- ja maalintekoleiri 2007-2012 syntyneille jääkiekkoilijoille. Valmentamisesta vastaavat huippuammattilaiset Harri Tapio (fysiikka)\, Jyri ”The” Saarinen (lajitaidot)\, Kärppäkuningas Jari ”Piku” Viuhkola (lajitaidot) sekä Juha-Pekka Haataja (lajitaidot). Tule mukaan!
URL:https://vuokattiareena.fi/tapahtumat/taito-ja-maalintekoleiri/
END:VEVENT
END:VCALENDAR